BEGIN:VCALENDAR
VERSION:2.0
PRODID:-//Puffafish - ECPv6.15.17.1//NONSGML v1.0//EN
CALSCALE:GREGORIAN
METHOD:PUBLISH
X-ORIGINAL-URL:https://puffa.fish
X-WR-CALDESC:Veranstaltungen für Puffafish
REFRESH-INTERVAL;VALUE=DURATION:PT1H
X-Robots-Tag:noindex
X-PUBLISHED-TTL:PT1H
BEGIN:VTIMEZONE
TZID:Europe/Berlin
BEGIN:DAYLIGHT
TZOFFSETFROM:+0100
TZOFFSETTO:+0200
TZNAME:CEST
DTSTART:20250330T010000
END:DAYLIGHT
BEGIN:STANDARD
TZOFFSETFROM:+0200
TZOFFSETTO:+0100
TZNAME:CET
DTSTART:20251026T010000
END:STANDARD
BEGIN:DAYLIGHT
TZOFFSETFROM:+0100
TZOFFSETTO:+0200
TZNAME:CEST
DTSTART:20260329T010000
END:DAYLIGHT
BEGIN:STANDARD
TZOFFSETFROM:+0200
TZOFFSETTO:+0100
TZNAME:CET
DTSTART:20261025T010000
END:STANDARD
BEGIN:DAYLIGHT
TZOFFSETFROM:+0100
TZOFFSETTO:+0200
TZNAME:CEST
DTSTART:20270328T010000
END:DAYLIGHT
BEGIN:STANDARD
TZOFFSETFROM:+0200
TZOFFSETTO:+0100
TZNAME:CET
DTSTART:20271031T010000
END:STANDARD
END:VTIMEZONE
BEGIN:VEVENT
DTSTART;VALUE=DATE:20260318
DTEND;VALUE=DATE:20260320
DTSTAMP:20260423T185317
CREATED:20260228T074240Z
LAST-MODIFIED:20260311T165430Z
UID:10000022-1773792000-1773964799@puffa.fish
SUMMARY:Hall of Flowers Ventura 2026
DESCRIPTION:Hall of Flowers 2026 – Kaliforniens Premium-Cannabis-Trade-Show in Ventura\nDie Hall of Flowers 2026 ist eines der spannendsten Business- und Culture-Events des Cannabis-Jahres – eine hochkarätige Expo- und Netzwerkplattform\, die Marken\, Händler und Industrie-Insider aus der Cannabisbranche in Ventura (Kalifornien\, USA) zusammenbringt. \n\n🌿 Was ist Hall of Flowers?\nDie Hall of Flowers gilt als eine der führenden Cannabis-Messen in den USA\, speziell im kalifornischen Markt – dem größten legalen Cannabis-markt der Welt. Sie wurde bewusst kuratiert\, um ein intimes\, hochwertiges Business-Umfeld zu schaffen\, in dem Marken ihre Produkte direkt ausgewählten Einkäuferinnen\, Distributoren und Fachbesucherinnen präsentieren können. \nDie Veranstaltung ist bekannt dafür\, B2B-Networking\, Produktpräsentationen und Markenerlebnisse in den Mittelpunkt zu stellen und setzt auf ein hochwertiges\, boutique-ähnliches Ausstellungskonzept. Das bedeutet: Keine überfüllten Hallen\, sondern gezielte Begegnungen zwischen den richtigen Menschen. \n\n📅 Termin & Ort\n📅 18. – 19. März 2026📍 Ventura County Fairgrounds – Ventura\, Kalifornien (USA)🕙 Tageszeiten: ca. 10:00 – 17:00 Uhr an beiden Tagen \n\n🧠 Was dich erwartet\n🛍️ B2B Expo & Marken-Showcases\nAm ersten Tag steht Business im Vordergrund: Lizenzierte Marken\, Retailer\, Distributoren und Fachakteure treffen sich in einem kuratierten Rahmen\, um neue Produkte zu entdecken\, Partnerschaften zu schließen und Geschäftschancen auszuloten. \nDie Ausstellerliste umfasst Top-Brands\, innovative Edibles\, Blüten\, Vapes\, Lifestyle-Produkte und Zubehör – alles sorgfältig ausgewählt\, um Qualität und Markenidentität sichtbar zu machen. \n🎉 Festival-Style & Verbraucherbeteiligung\nNeu für 2026: Am zweiten Tag öffnet die Hall of Flowers erstmals auch für die allgemeine Öffentlichkeit mit einem Festival-Feeling-Programm\, das die Grenzen zwischen Industrie und Kultur verwischt. Besucher können hier direkt mit Marken interagieren\, Produkte erleben und an Präsentationen\, Unterhaltung und innovativen Verkaufsformaten teilnehmen. \nDiese Erweiterung macht die Hall of Flowers nicht nur zu einem Fachereignis\, sondern auch zu einem Erlebnis für Konsument*innen und Cannabis-Fans. \n\n🤝 Networking & Zukunftstrends\nDie Hall of Flowers ist ein Knotenpunkt für Deals und Kontakte: Marken nutzen die Veranstaltung\, um ihre Präsenz auf dem Markt zu stärken\, Einkäufer*innen Kennenlernen und wertvolle Einsichten in Konsumtrends zu gewinnen. Diskussionen über Regulierung\, Marktentwicklung und Innovation finden direkt auf dem Expo-Floor oder während Side-Events statt. \n\n🌴 Warum die Hall of Flowers 2026 besonders ist\n✔️ Kuratiertes Konzept: Nicht nur Masse\, sondern echte Qualitäten – jede Marke muss ausgewählt werden\, um teilzunehmen.✔️ Brücke zwischen Kultur & Commerce: Die Kombination aus B2B-Tag und offenem Festival-Tag schafft neue Möglichkeiten für Marken und Verbraucher gleichermaßen.✔️ Kalifornischer Markt: Als größter legaler Markt weltweit bietet Kalifornien einzigartige Perspektiven für Wachstum\, Trends und Produktinnovation. \n\n👉 Fazit: Die Hall of Flowers 2026 ist ein Must-Attend-Event für alle\, die in der Cannabisbranche Geschäfte machen\, Markenpositionierung vorantreiben und direkt mit Entscheidungsträgerinnen und Kundinnen in Kontakt treten wollen – sei es als Fachbesucherin oder als neugieriger Cannabis-Fan\, der die Kultur und die Marken hinter den Produkten erleben möchte.
URL:https://puffa.fish/event/hall-of-flowers-ventura-2026/
LOCATION:Ventura County Fairgrounds and Event Center\, 10 E Harbor Blvd\, Ventura\, 93001\, United States
CATEGORIES:Expo,Festival,Konferenzen,Messen
ATTACH;FMTTYPE=image/jpeg:https://puffa.fish/wp-content/uploads/2026/02/68027f0bbfc1ed0264906717_250319_HOF_0072-p-2000.jpg
ORGANIZER;CN="Hall of Flowers":MAILTO:info@hallofflowers.com
END:VEVENT
END:VCALENDAR